BEGIN:VCALENDAR
VERSION:2.0
PRODID:-//Big Nicks Juke Joint - ECPv6.15.20//NONSGML v1.0//EN
CALSCALE:GREGORIAN
METHOD:PUBLISH
X-ORIGINAL-URL:https://bignicks.com
X-WR-CALDESC:Events for Big Nicks Juke Joint
REFRESH-INTERVAL;VALUE=DURATION:PT1H
X-Robots-Tag:noindex
X-PUBLISHED-TTL:PT1H
BEGIN:VTIMEZONE
TZID:America/New_York
BEGIN:DAYLIGHT
TZOFFSETFROM:-0500
TZOFFSETTO:-0400
TZNAME:EDT
DTSTART:20250309T070000
END:DAYLIGHT
BEGIN:STANDARD
TZOFFSETFROM:-0400
TZOFFSETTO:-0500
TZNAME:EST
DTSTART:20251102T060000
END:STANDARD
BEGIN:DAYLIGHT
TZOFFSETFROM:-0500
TZOFFSETTO:-0400
TZNAME:EDT
DTSTART:20260308T070000
END:DAYLIGHT
BEGIN:STANDARD
TZOFFSETFROM:-0400
TZOFFSETTO:-0500
TZNAME:EST
DTSTART:20261101T060000
END:STANDARD
BEGIN:DAYLIGHT
TZOFFSETFROM:-0500
TZOFFSETTO:-0400
TZNAME:EDT
DTSTART:20270314T070000
END:DAYLIGHT
BEGIN:STANDARD
TZOFFSETFROM:-0400
TZOFFSETTO:-0500
TZNAME:EST
DTSTART:20271107T060000
END:STANDARD
END:VTIMEZONE
BEGIN:VEVENT
DTSTART;TZID=America/New_York:20260307T210000
DTEND;TZID=America/New_York:20260308T010000
DTSTAMP:20260424T221516
CREATED:20260228T024524Z
LAST-MODIFIED:20260308T022250Z
UID:10000287-1772917200-1772931600@bignicks.com
SUMMARY:Big Birthday Comedy Show & Afterparty!!
DESCRIPTION:🎉 Big Nick’s Birthday Bash & Comedy Show\n\n\n📅 Saturday\, March 7\, 2026 \n\n\n⏰ Showtime: 9:00 PM \n\n\n🎤 Featuring National & Regional Comedy Talent \n\n\nBarbara Carlyle \n\n\nDekeyes \n\n\n\n\n🎙️ Hosted by: Donte Ray (aka Sherman) \n\n\n😂 A high-energy night of grown-folks comedy\, laughs\, and celebration \n\n\n🎂 Official Birthday Bash Celebration
URL:https://bignicks.com/event/big-birthday-comedy-show-afterparty/
LOCATION:Big Nick’s Juke Joint\, 1201 Baytree Rd\, Valdosta\, GA\, 31602\, United States
CATEGORIES:Big Nick Juke Joints Event,Comedy Corner,Live Music,Nick's at Nite
ATTACH;FMTTYPE=image/png:https://bignicks.com/wp-content/uploads/2026/02/ChatGPT-Image-Feb-27-2026-09_40_21-PM.png
ORGANIZER;CN="Big Nick's Juke Joint":MAILTO:bignicksonbaytree@gmail.com
END:VEVENT
BEGIN:VEVENT
DTSTART;TZID=America/New_York:20260308T110000
DTEND;TZID=America/New_York:20260308T150000
DTSTAMP:20260424T221516
CREATED:20251122T051159Z
LAST-MODIFIED:20260225T144426Z
UID:10000020-1772967600-1772982000@bignicks.com
SUMMARY:Sunday Brunch at Big Nick’s
DESCRIPTION:It’s not just brunch. It’s BRUNCH! BRUNCH! BRUNCH!\nJoin us every Sunday for a mouthwatering Southern-style brunch featuring your favorites: fluffy pancakes\, cheesy omelets\, fresh fruit\, mimosas\, and more. Bring your appetite and your crew for a flavorful start to your Sunday! \n🍳 Walk-ins welcome • Family friendly • Vibes guaranteed\nEvery Sunday\, 11:00 AM – 3:00 PM
URL:https://bignicks.com/event/sunday-brunch-at-big-nicks/2026-03-08/
LOCATION:Big Nick’s Juke Joint\, 1201 Baytree Rd\, Valdosta\, GA\, 31602\, United States
CATEGORIES:Big Nick Juke Joints Event
ATTACH;FMTTYPE=image/jpeg:https://bignicks.com/wp-content/uploads/2025/10/Brunch-Sunday.jpg
ORGANIZER;CN="Big Nick's Juke Joint":MAILTO:bignicksonbaytree@gmail.com
END:VEVENT
END:VCALENDAR