BEGIN:VCALENDAR
VERSION:2.0
PRODID:-//Big Nicks Juke Joint - ECPv6.15.20//NONSGML v1.0//EN
CALSCALE:GREGORIAN
METHOD:PUBLISH
X-WR-CALNAME:Big Nicks Juke Joint
X-ORIGINAL-URL:https://bignicks.com
X-WR-CALDESC:Events for Big Nicks Juke Joint
REFRESH-INTERVAL;VALUE=DURATION:PT1H
X-Robots-Tag:noindex
X-PUBLISHED-TTL:PT1H
BEGIN:VTIMEZONE
TZID:America/New_York
BEGIN:DAYLIGHT
TZOFFSETFROM:-0500
TZOFFSETTO:-0400
TZNAME:EDT
DTSTART:20240310T070000
END:DAYLIGHT
BEGIN:STANDARD
TZOFFSETFROM:-0400
TZOFFSETTO:-0500
TZNAME:EST
DTSTART:20241103T060000
END:STANDARD
BEGIN:DAYLIGHT
TZOFFSETFROM:-0500
TZOFFSETTO:-0400
TZNAME:EDT
DTSTART:20250309T070000
END:DAYLIGHT
BEGIN:STANDARD
TZOFFSETFROM:-0400
TZOFFSETTO:-0500
TZNAME:EST
DTSTART:20251102T060000
END:STANDARD
BEGIN:DAYLIGHT
TZOFFSETFROM:-0500
TZOFFSETTO:-0400
TZNAME:EDT
DTSTART:20260308T070000
END:DAYLIGHT
BEGIN:STANDARD
TZOFFSETFROM:-0400
TZOFFSETTO:-0500
TZNAME:EST
DTSTART:20261101T060000
END:STANDARD
END:VTIMEZONE
BEGIN:VEVENT
DTSTART;TZID=America/New_York:20251207T110000
DTEND;TZID=America/New_York:20251207T150000
DTSTAMP:20260424T233803
CREATED:20251122T051159Z
LAST-MODIFIED:20260225T144426Z
UID:10000007-1765105200-1765119600@bignicks.com
SUMMARY:Sunday Brunch at Big Nick’s
DESCRIPTION:It’s not just brunch. It’s BRUNCH! BRUNCH! BRUNCH!\nJoin us every Sunday for a mouthwatering Southern-style brunch featuring your favorites: fluffy pancakes\, cheesy omelets\, fresh fruit\, mimosas\, and more. Bring your appetite and your crew for a flavorful start to your Sunday! \n🍳 Walk-ins welcome • Family friendly • Vibes guaranteed\nEvery Sunday\, 11:00 AM – 3:00 PM
URL:https://bignicks.com/event/sunday-brunch-at-big-nicks/2025-12-07/
LOCATION:Big Nick’s Juke Joint\, 1201 Baytree Rd\, Valdosta\, GA\, 31602\, United States
CATEGORIES:Big Nick Juke Joints Event
ATTACH;FMTTYPE=image/jpeg:https://bignicks.com/wp-content/uploads/2025/10/Brunch-Sunday.jpg
ORGANIZER;CN="Big Nick's Juke Joint":MAILTO:bignicksonbaytree@gmail.com
END:VEVENT
BEGIN:VEVENT
DTSTART;TZID=America/New_York:20251211T183000
DTEND;TZID=America/New_York:20251211T210000
DTSTAMP:20260424T233803
CREATED:20251210T173318Z
LAST-MODIFIED:20251210T173318Z
UID:10000269-1765477800-1765486800@bignicks.com
SUMMARY:🎁 Toyz N Da Hood Drive
DESCRIPTION:SBS\, West Love & DJ Tremayne are bringing joy to the city with the Toyz N Da Hood Drive at Big Nick’s Juke Joint! 🎄🎶Come enjoy live performances from West Love and Tee Doe Brown — all for a great cause. \n💝 Entry is FREE with a new\, unwrapped toy📍 Big Nick’s Juke Joint🕠 Doors open at 6:30PMLet’s spread love\, music\, and holiday cheer to the kids in our community!
URL:https://bignicks.com/event/%f0%9f%8e%81-toyz-n-da-hood-drive/
LOCATION:Big Nick’s Juke Joint\, 1201 Baytree Rd\, Valdosta\, GA\, 31602\, United States
CATEGORIES:Big Nick Juke Joints Event
ATTACH;FMTTYPE=image/jpeg:https://bignicks.com/wp-content/uploads/2025/12/Toyz-N-Da-Hood-Drive.jpg
ORGANIZER;CN="Big Nick's Juke Joint":MAILTO:bignicksonbaytree@gmail.com
END:VEVENT
BEGIN:VEVENT
DTSTART;TZID=America/New_York:20251213T200000
DTEND;TZID=America/New_York:20251214T000000
DTSTAMP:20260424T233803
CREATED:20251205T121257Z
LAST-MODIFIED:20251205T121310Z
UID:10000267-1765656000-1765670400@bignicks.com
SUMMARY:Saturday Night Live at Big Nick’s - Ayonna Charese & Rehab
DESCRIPTION:Live Performance by Ayonna Charese & Rehab📅 December 13 | 🕗 8:00 PM📍1201 Baytree Rd\, Valdosta\, GA 31602 \nJoin us at Big Nick’s Juke Joint for an unforgettable Saturday night filled with soulful vocals\, high-energy music\, and the best vibes in town. Ayonna Charese and Rehab are bringing the heat to the stage for a live show you don’t want to miss.
URL:https://bignicks.com/event/saturday-night-live-at-big-nicks-ayonna-charese-rehab/
LOCATION:Big Nick’s Juke Joint\, 1201 Baytree Rd\, Valdosta\, GA\, 31602\, United States
CATEGORIES:Live Music
ATTACH;FMTTYPE=image/jpeg:https://bignicks.com/wp-content/uploads/2025/12/Saturday-Night-Live-at-Big-Nicks-Ayonna-Charese-Rehab.jpg
ORGANIZER;CN="Big Nick's Juke Joint":MAILTO:bignicksonbaytree@gmail.com
END:VEVENT
END:VCALENDAR