BEGIN:VCALENDAR
VERSION:2.0
PRODID:-//Big Nicks Juke Joint - ECPv6.15.20//NONSGML v1.0//EN
CALSCALE:GREGORIAN
METHOD:PUBLISH
X-WR-CALNAME:Big Nicks Juke Joint
X-ORIGINAL-URL:https://bignicks.com
X-WR-CALDESC:Events for Big Nicks Juke Joint
REFRESH-INTERVAL;VALUE=DURATION:PT1H
X-Robots-Tag:noindex
X-PUBLISHED-TTL:PT1H
BEGIN:VTIMEZONE
TZID:America/New_York
BEGIN:DAYLIGHT
TZOFFSETFROM:-0500
TZOFFSETTO:-0400
TZNAME:EDT
DTSTART:20250309T070000
END:DAYLIGHT
BEGIN:STANDARD
TZOFFSETFROM:-0400
TZOFFSETTO:-0500
TZNAME:EST
DTSTART:20251102T060000
END:STANDARD
BEGIN:DAYLIGHT
TZOFFSETFROM:-0500
TZOFFSETTO:-0400
TZNAME:EDT
DTSTART:20260308T070000
END:DAYLIGHT
BEGIN:STANDARD
TZOFFSETFROM:-0400
TZOFFSETTO:-0500
TZNAME:EST
DTSTART:20261101T060000
END:STANDARD
BEGIN:DAYLIGHT
TZOFFSETFROM:-0500
TZOFFSETTO:-0400
TZNAME:EDT
DTSTART:20270314T070000
END:DAYLIGHT
BEGIN:STANDARD
TZOFFSETFROM:-0400
TZOFFSETTO:-0500
TZNAME:EST
DTSTART:20271107T060000
END:STANDARD
END:VTIMEZONE
BEGIN:VEVENT
DTSTART;TZID=America/New_York:20260219T080000
DTEND;TZID=America/New_York:20260219T170000
DTSTAMP:20260425T061847
CREATED:20260219T074717Z
LAST-MODIFIED:20260219T152617Z
UID:10000285-1771488000-1771520400@bignicks.com
SUMMARY:Larry Mallory & The Boys
DESCRIPTION:If you missed last Saturday… don’t make that mistake again 😌 \nWe’re keeping that same energy with Larry & The Boys live this weekend. \nGreat music. Better food. Real grown-folk vibes. \nBig Nick’s is officially home base for South Georgia & North Florida.
URL:https://bignicks.com/event/larry-mallory-the-boys/
LOCATION:Big Nick’s Juke Joint\, 1201 Baytree Rd\, Valdosta\, GA\, 31602\, United States
CATEGORIES:Big Nick Juke Joints Event,Live Music,Nick's at Nite
ATTACH;FMTTYPE=image/png:https://bignicks.com/wp-content/uploads/2026/02/8AF4291A-2386-4CE8-BC6F-0F05D49AE0C1.png
ORGANIZER;CN="Big Nick's Juke Joint":MAILTO:bignicksonbaytree@gmail.com
END:VEVENT
BEGIN:VEVENT
DTSTART;TZID=America/New_York:20260222T110000
DTEND;TZID=America/New_York:20260222T150000
DTSTAMP:20260425T061847
CREATED:20251122T051159Z
LAST-MODIFIED:20260225T144426Z
UID:10000018-1771758000-1771772400@bignicks.com
SUMMARY:Sunday Brunch at Big Nick’s
DESCRIPTION:It’s not just brunch. It’s BRUNCH! BRUNCH! BRUNCH!\nJoin us every Sunday for a mouthwatering Southern-style brunch featuring your favorites: fluffy pancakes\, cheesy omelets\, fresh fruit\, mimosas\, and more. Bring your appetite and your crew for a flavorful start to your Sunday! \n🍳 Walk-ins welcome • Family friendly • Vibes guaranteed\nEvery Sunday\, 11:00 AM – 3:00 PM
URL:https://bignicks.com/event/sunday-brunch-at-big-nicks/2026-02-22/
LOCATION:Big Nick’s Juke Joint\, 1201 Baytree Rd\, Valdosta\, GA\, 31602\, United States
CATEGORIES:Big Nick Juke Joints Event
ATTACH;FMTTYPE=image/jpeg:https://bignicks.com/wp-content/uploads/2025/10/Brunch-Sunday.jpg
ORGANIZER;CN="Big Nick's Juke Joint":MAILTO:bignicksonbaytree@gmail.com
END:VEVENT
END:VCALENDAR