BEGIN:VCALENDAR
VERSION:2.0
PRODID:-//Big Nicks Juke Joint - ECPv6.15.20//NONSGML v1.0//EN
CALSCALE:GREGORIAN
METHOD:PUBLISH
X-WR-CALNAME:Big Nicks Juke Joint
X-ORIGINAL-URL:https://bignicks.com
X-WR-CALDESC:Events for Big Nicks Juke Joint
REFRESH-INTERVAL;VALUE=DURATION:PT1H
X-Robots-Tag:noindex
X-PUBLISHED-TTL:PT1H
BEGIN:VTIMEZONE
TZID:America/New_York
BEGIN:DAYLIGHT
TZOFFSETFROM:-0500
TZOFFSETTO:-0400
TZNAME:EDT
DTSTART:20240310T070000
END:DAYLIGHT
BEGIN:STANDARD
TZOFFSETFROM:-0400
TZOFFSETTO:-0500
TZNAME:EST
DTSTART:20241103T060000
END:STANDARD
BEGIN:DAYLIGHT
TZOFFSETFROM:-0500
TZOFFSETTO:-0400
TZNAME:EDT
DTSTART:20250309T070000
END:DAYLIGHT
BEGIN:STANDARD
TZOFFSETFROM:-0400
TZOFFSETTO:-0500
TZNAME:EST
DTSTART:20251102T060000
END:STANDARD
BEGIN:DAYLIGHT
TZOFFSETFROM:-0500
TZOFFSETTO:-0400
TZNAME:EDT
DTSTART:20260308T070000
END:DAYLIGHT
BEGIN:STANDARD
TZOFFSETFROM:-0400
TZOFFSETTO:-0500
TZNAME:EST
DTSTART:20261101T060000
END:STANDARD
BEGIN:DAYLIGHT
TZOFFSETFROM:-0500
TZOFFSETTO:-0400
TZNAME:EDT
DTSTART:20270314T070000
END:DAYLIGHT
BEGIN:STANDARD
TZOFFSETFROM:-0400
TZOFFSETTO:-0500
TZNAME:EST
DTSTART:20271107T060000
END:STANDARD
END:VTIMEZONE
BEGIN:VEVENT
DTSTART;TZID=America/New_York:20260109T200000
DTEND;TZID=America/New_York:20260109T220000
DTSTAMP:20260424T204516
CREATED:20260105T053840Z
LAST-MODIFIED:20260105T054432Z
UID:10000278-1767988800-1767996000@bignicks.com
SUMMARY:Ayonna Charese & Rehab After Party
DESCRIPTION:🎤 Ayonna Charese & Rehab \n🗓 Friday\, January 9 \n⏰ Showtime: 8PM \n📍 Big Nick’s Juke Joint — 1201 Baytree Rd\, Valdosta \nGreat music. Great food. Even better vibes. \n#NicksAtNite #FoundersDay #BigNicksJukeJoint #ValdostaEvents #LiveMusic229
URL:https://bignicks.com/event/ayonna-charese-rehab-after-party/
LOCATION:Big Nick’s Juke Joint\, 1201 Baytree Rd\, Valdosta\, GA\, 31602\, United States
CATEGORIES:Big Nick Juke Joints Event,Live Music,Nick's at Nite
ATTACH;FMTTYPE=image/jpeg:https://bignicks.com/wp-content/uploads/2025/12/Saturday-Night-Live-at-Big-Nicks-Ayonna-Charese-Rehab-1.jpg
ORGANIZER;CN="Big Nick's Juke Joint":MAILTO:bignicksonbaytree@gmail.com
END:VEVENT
BEGIN:VEVENT
DTSTART;TZID=America/New_York:20260109T193000
DTEND;TZID=America/New_York:20260109T233000
DTSTAMP:20260424T204516
CREATED:20260105T041737Z
LAST-MODIFIED:20260105T041737Z
UID:10000276-1767987000-1768001400@bignicks.com
SUMMARY:Phi Beta Sigma Founder’s Day
DESCRIPTION:Join the Theta Sigma Sigma chapter of Phi Beta Sigma as we celebrate our Founder’s Day celebration this Friday! Come dine and dance with us. #J9 #pbs1914 #phibetasigma #bignicks
URL:https://bignicks.com/event/phi-beta-sigma-founders-day/
LOCATION:Big Nick’s Juke Joint\, 1201 Baytree Rd\, Valdosta\, GA\, 31602\, United States
CATEGORIES:Big Nick Juke Joints Event,Live Music,Nick's at Nite
ATTACH;FMTTYPE=image/png:https://bignicks.com/wp-content/uploads/2026/01/Founders-day-event.png
ORGANIZER;CN="Big Nick's Juke Joint":MAILTO:bignicksonbaytree@gmail.com
END:VEVENT
BEGIN:VEVENT
DTSTART;TZID=America/New_York:20260103T200000
DTEND;TZID=America/New_York:20260103T230000
DTSTAMP:20260424T204516
CREATED:20260102T225351Z
LAST-MODIFIED:20260102T225427Z
UID:10000275-1767470400-1767481200@bignicks.com
SUMMARY:Live Music With Khemistry
DESCRIPTION:
URL:https://bignicks.com/event/live-music-with-khemistry/
LOCATION:Big Nick’s Juke Joint\, 1201 Baytree Rd\, Valdosta\, GA\, 31602\, United States
CATEGORIES:Big Nick Juke Joints Event,Live Music,Nick's at Nite
ATTACH;FMTTYPE=image/png:https://bignicks.com/wp-content/uploads/2026/01/765F0F86-97BC-469A-8A2B-C50440892445.png
ORGANIZER;CN="Big Nick's Juke Joint":MAILTO:bignicksonbaytree@gmail.com
END:VEVENT
BEGIN:VEVENT
DTSTART;TZID=America/New_York:20251227T200000
DTEND;TZID=America/New_York:20251228T000000
DTSTAMP:20260424T204516
CREATED:20251224T070631Z
LAST-MODIFIED:20251224T070631Z
UID:10000273-1766865600-1766880000@bignicks.com
SUMMARY:Saturday Night Live at Big Nick’s
DESCRIPTION:Featuring Larry Mallory & The Boys \nGet ready for a soulful\, high-energy night of live music as Larry Mallory & The Boys take the stage this Saturday\, December 27 at Big Nick’s Juke Joint & BBQ! \nWhether you’re vibing with friends or out for date night\, this band brings the perfect blend of funk\, soul\, and smooth grooves to keep the night flowing. \n🎤 Live Performance Starts at 8PM🎟️ Reserved Seating Available📍 1201 Baytree Rd\, Valdosta\, GA🌐 bignicks.com \nGrab your seat and come feel the rhythm — it’s Saturday Night Live like you’ve never experienced before!
URL:https://bignicks.com/event/saturday-night-live-at-big-nicks-2/
LOCATION:Big Nick’s Juke Joint\, 1201 Baytree Rd\, Valdosta\, GA\, 31602\, United States
CATEGORIES:Live Music
ATTACH;FMTTYPE=image/jpeg:https://bignicks.com/wp-content/uploads/2025/12/Saturday-Night-Live-Big-Nicks-Juke-Joint.jpg
ORGANIZER;CN="Big Nick's Juke Joint":MAILTO:bignicksonbaytree@gmail.com
END:VEVENT
BEGIN:VEVENT
DTSTART;TZID=America/New_York:20251220T200000
DTEND;TZID=America/New_York:20251221T000000
DTSTAMP:20260424T204516
CREATED:20251216T142833Z
LAST-MODIFIED:20251216T142923Z
UID:10000271-1766260800-1766275200@bignicks.com
SUMMARY:Khemistry the Band – Live at Big Nick’s
DESCRIPTION:Get ready for an unforgettable night of live music with the soulful sounds of Khemistry the Band\, performing LIVE at Big Nick’s Juke Joint! This talented group brings the perfect blend of rhythm\, vocals\, and feel-good energy that’ll keep you vibin’ all night. \n📍 1201 Baytree Rd\, Valdosta\, GA🕗 Showtime: 8:00 PM \nWhether you’re a longtime fan or new to the scene\, this is one night you don’t want to miss. Come for the food. Stay for the music. 🎤🔥
URL:https://bignicks.com/event/khemistry-the-band-live-at-big-nicks/
LOCATION:Big Nick’s Juke Joint\, 1201 Baytree Rd\, Valdosta\, GA\, 31602\, United States
CATEGORIES:Live Music
ATTACH;FMTTYPE=image/jpeg:https://bignicks.com/wp-content/uploads/2025/12/Khemistry-the-Band.jpg
ORGANIZER;CN="Big Nick's Juke Joint":MAILTO:bignicksonbaytree@gmail.com
END:VEVENT
BEGIN:VEVENT
DTSTART;TZID=America/New_York:20251219T210000
DTEND;TZID=America/New_York:20251220T000000
DTSTAMP:20260424T204516
CREATED:20251208T202000Z
LAST-MODIFIED:20251208T202436Z
UID:10000268-1766178000-1766188800@bignicks.com
SUMMARY:🎄 Soul-FULL Sweater Christmas Jam | Presented by Antrez Miller Music & Big Nick’s
DESCRIPTION:🕘 Doors Open: 9:15 PM | Show Starts: 9:30 PM📍 Big Nick’s | 1201 Baytree Rd\, Valdosta\, GA 31602 \nGet ready for a night where the food\, vibes\, and holiday spirit hit different! Join us for the Soul-FULL Sweater Christmas Jam\, a festive night of soulful music\, good food\, and great energy. \n🎤 Live Performances By: \n\nImmanuel “Manny” McCrae\nPrecious Austin\nAlana Butler\nLoretta Robinson Straughter\n\n🎁 Wear your most “Soul-FULL” sweater for a chance to win a free giveaway! \nThis is the Christmas vibe you didn’t know you needed. \n📞 More info: 229-516-0547
URL:https://bignicks.com/event/%f0%9f%8e%84-soul-full-sweater-christmas-jam-presented-by-antrez-miller-music-big-nicks/
LOCATION:Big Nick’s Juke Joint\, 1201 Baytree Rd\, Valdosta\, GA\, 31602\, United States
CATEGORIES:Big Nick Juke Joints Event,Live Music
ATTACH;FMTTYPE=image/jpeg:https://bignicks.com/wp-content/uploads/2025/12/Sweater-Christmas-Jam.jpg
ORGANIZER;CN="Big Nick's Juke Joint":MAILTO:bignicksonbaytree@gmail.com
END:VEVENT
BEGIN:VEVENT
DTSTART;TZID=America/New_York:20251213T200000
DTEND;TZID=America/New_York:20251214T000000
DTSTAMP:20260424T204516
CREATED:20251205T121257Z
LAST-MODIFIED:20251205T121310Z
UID:10000267-1765656000-1765670400@bignicks.com
SUMMARY:Saturday Night Live at Big Nick’s - Ayonna Charese & Rehab
DESCRIPTION:Live Performance by Ayonna Charese & Rehab📅 December 13 | 🕗 8:00 PM📍1201 Baytree Rd\, Valdosta\, GA 31602 \nJoin us at Big Nick’s Juke Joint for an unforgettable Saturday night filled with soulful vocals\, high-energy music\, and the best vibes in town. Ayonna Charese and Rehab are bringing the heat to the stage for a live show you don’t want to miss.
URL:https://bignicks.com/event/saturday-night-live-at-big-nicks-ayonna-charese-rehab/
LOCATION:Big Nick’s Juke Joint\, 1201 Baytree Rd\, Valdosta\, GA\, 31602\, United States
CATEGORIES:Live Music
ATTACH;FMTTYPE=image/jpeg:https://bignicks.com/wp-content/uploads/2025/12/Saturday-Night-Live-at-Big-Nicks-Ayonna-Charese-Rehab.jpg
ORGANIZER;CN="Big Nick's Juke Joint":MAILTO:bignicksonbaytree@gmail.com
END:VEVENT
BEGIN:VEVENT
DTSTART;TZID=America/New_York:20251122T200000
DTEND;TZID=America/New_York:20251123T000000
DTSTAMP:20260424T204516
CREATED:20251122T045006Z
LAST-MODIFIED:20251122T050807Z
UID:10000002-1763841600-1763856000@bignicks.com
SUMMARY:Zone 3 x Soulful Soundz Band – Live at Big Nick’s
DESCRIPTION:Two powerhouse acts\, one unforgettable night! Zone 3 and the Soulful Soundz Band team up for a high-energy\, live performance that blends R&B\, soul\, and Southern flavor. Whether you’re vibin’ with the vocals or groovin’ to the band\, this is where the party’s at. \nDate: November 22Time: Show starts at 8PMLocation: 1201 Baytree Rd\, Valdosta\, GACover: $10
URL:https://bignicks.com/event/zone-3-x-soulful-soundz-band-live-at-big-nicks/
LOCATION:Big Nick’s Juke Joint\, 1201 Baytree Rd\, Valdosta\, GA\, 31602\, United States
CATEGORIES:Live Music
ATTACH;FMTTYPE=image/jpeg:https://bignicks.com/wp-content/uploads/2025/11/Big-Nics.jpeg
ORGANIZER;CN="Big Nick's Juke Joint":MAILTO:bignicksonbaytree@gmail.com
END:VEVENT
END:VCALENDAR