BEGIN:VCALENDAR
VERSION:2.0
PRODID:-//Big Nicks Juke Joint - ECPv6.15.20//NONSGML v1.0//EN
CALSCALE:GREGORIAN
METHOD:PUBLISH
X-ORIGINAL-URL:https://bignicks.com
X-WR-CALDESC:Events for Big Nicks Juke Joint
REFRESH-INTERVAL;VALUE=DURATION:PT1H
X-Robots-Tag:noindex
X-PUBLISHED-TTL:PT1H
BEGIN:VTIMEZONE
TZID:America/New_York
BEGIN:DAYLIGHT
TZOFFSETFROM:-0500
TZOFFSETTO:-0400
TZNAME:EDT
DTSTART:20240310T070000
END:DAYLIGHT
BEGIN:STANDARD
TZOFFSETFROM:-0400
TZOFFSETTO:-0500
TZNAME:EST
DTSTART:20241103T060000
END:STANDARD
BEGIN:DAYLIGHT
TZOFFSETFROM:-0500
TZOFFSETTO:-0400
TZNAME:EDT
DTSTART:20250309T070000
END:DAYLIGHT
BEGIN:STANDARD
TZOFFSETFROM:-0400
TZOFFSETTO:-0500
TZNAME:EST
DTSTART:20251102T060000
END:STANDARD
BEGIN:DAYLIGHT
TZOFFSETFROM:-0500
TZOFFSETTO:-0400
TZNAME:EDT
DTSTART:20260308T070000
END:DAYLIGHT
BEGIN:STANDARD
TZOFFSETFROM:-0400
TZOFFSETTO:-0500
TZNAME:EST
DTSTART:20261101T060000
END:STANDARD
END:VTIMEZONE
BEGIN:VEVENT
DTSTART;VALUE=DATE:20251127
DTEND;VALUE=DATE:20251128
DTSTAMP:20260424T221225
CREATED:20251125T035125Z
LAST-MODIFIED:20251125T040003Z
UID:10000266-1764201600-1764287999@bignicks.com
SUMMARY:Happy Thanksgiving
DESCRIPTION:Big Nick’s is closed to spend time with family! Thanks\, and see you after the holidays.
URL:https://bignicks.com/event/happy-thanksgiving/
LOCATION:Big Nick’s Juke Joint\, 1201 Baytree Rd\, Valdosta\, GA\, 31602\, United States
CATEGORIES:Big Nick Juke Joints Event,Nick's at Nite
ATTACH;FMTTYPE=image/jpeg:https://bignicks.com/wp-content/uploads/2025/11/closed.jpg
ORGANIZER;CN="Big Nick's Juke Joint":MAILTO:bignicksonbaytree@gmail.com
END:VEVENT
BEGIN:VEVENT
DTSTART;TZID=America/New_York:20251123T110000
DTEND;TZID=America/New_York:20251123T150000
DTSTAMP:20260424T221225
CREATED:20251122T051159Z
LAST-MODIFIED:20260225T144426Z
UID:10000005-1763895600-1763910000@bignicks.com
SUMMARY:Sunday Brunch at Big Nick’s
DESCRIPTION:It’s not just brunch. It’s BRUNCH! BRUNCH! BRUNCH!\nJoin us every Sunday for a mouthwatering Southern-style brunch featuring your favorites: fluffy pancakes\, cheesy omelets\, fresh fruit\, mimosas\, and more. Bring your appetite and your crew for a flavorful start to your Sunday! \n🍳 Walk-ins welcome • Family friendly • Vibes guaranteed\nEvery Sunday\, 11:00 AM – 3:00 PM
URL:https://bignicks.com/event/sunday-brunch-at-big-nicks/2025-11-23/
LOCATION:Big Nick’s Juke Joint\, 1201 Baytree Rd\, Valdosta\, GA\, 31602\, United States
CATEGORIES:Big Nick Juke Joints Event
ATTACH;FMTTYPE=image/jpeg:https://bignicks.com/wp-content/uploads/2025/10/Brunch-Sunday.jpg
ORGANIZER;CN="Big Nick's Juke Joint":MAILTO:bignicksonbaytree@gmail.com
END:VEVENT
END:VCALENDAR