BEGIN:VCALENDAR
VERSION:2.0
PRODID:-//Big Nicks Juke Joint - ECPv6.15.20//NONSGML v1.0//EN
CALSCALE:GREGORIAN
METHOD:PUBLISH
X-WR-CALNAME:Big Nicks Juke Joint
X-ORIGINAL-URL:https://bignicks.com
X-WR-CALDESC:Events for Big Nicks Juke Joint
REFRESH-INTERVAL;VALUE=DURATION:PT1H
X-Robots-Tag:noindex
X-PUBLISHED-TTL:PT1H
BEGIN:VTIMEZONE
TZID:America/New_York
BEGIN:DAYLIGHT
TZOFFSETFROM:-0500
TZOFFSETTO:-0400
TZNAME:EDT
DTSTART:20250309T070000
END:DAYLIGHT
BEGIN:STANDARD
TZOFFSETFROM:-0400
TZOFFSETTO:-0500
TZNAME:EST
DTSTART:20251102T060000
END:STANDARD
BEGIN:DAYLIGHT
TZOFFSETFROM:-0500
TZOFFSETTO:-0400
TZNAME:EDT
DTSTART:20260308T070000
END:DAYLIGHT
BEGIN:STANDARD
TZOFFSETFROM:-0400
TZOFFSETTO:-0500
TZNAME:EST
DTSTART:20261101T060000
END:STANDARD
BEGIN:DAYLIGHT
TZOFFSETFROM:-0500
TZOFFSETTO:-0400
TZNAME:EDT
DTSTART:20270314T070000
END:DAYLIGHT
BEGIN:STANDARD
TZOFFSETFROM:-0400
TZOFFSETTO:-0500
TZNAME:EST
DTSTART:20271107T060000
END:STANDARD
END:VTIMEZONE
BEGIN:VEVENT
DTSTART;TZID=America/New_York:20260103T200000
DTEND;TZID=America/New_York:20260103T230000
DTSTAMP:20260424T190655
CREATED:20260102T225351Z
LAST-MODIFIED:20260102T225427Z
UID:10000275-1767470400-1767481200@bignicks.com
SUMMARY:Live Music With Khemistry
DESCRIPTION:
URL:https://bignicks.com/event/live-music-with-khemistry/
LOCATION:Big Nick’s Juke Joint\, 1201 Baytree Rd\, Valdosta\, GA\, 31602\, United States
CATEGORIES:Big Nick Juke Joints Event,Live Music,Nick's at Nite
ATTACH;FMTTYPE=image/png:https://bignicks.com/wp-content/uploads/2026/01/765F0F86-97BC-469A-8A2B-C50440892445.png
ORGANIZER;CN="Big Nick's Juke Joint":MAILTO:bignicksonbaytree@gmail.com
END:VEVENT
BEGIN:VEVENT
DTSTART;TZID=America/New_York:20260104T110000
DTEND;TZID=America/New_York:20260104T150000
DTSTAMP:20260424T190655
CREATED:20251122T051159Z
LAST-MODIFIED:20260225T144426Z
UID:10000011-1767524400-1767538800@bignicks.com
SUMMARY:Sunday Brunch at Big Nick’s
DESCRIPTION:It’s not just brunch. It’s BRUNCH! BRUNCH! BRUNCH!\nJoin us every Sunday for a mouthwatering Southern-style brunch featuring your favorites: fluffy pancakes\, cheesy omelets\, fresh fruit\, mimosas\, and more. Bring your appetite and your crew for a flavorful start to your Sunday! \n🍳 Walk-ins welcome • Family friendly • Vibes guaranteed\nEvery Sunday\, 11:00 AM – 3:00 PM
URL:https://bignicks.com/event/sunday-brunch-at-big-nicks/2026-01-04/
LOCATION:Big Nick’s Juke Joint\, 1201 Baytree Rd\, Valdosta\, GA\, 31602\, United States
CATEGORIES:Big Nick Juke Joints Event
ATTACH;FMTTYPE=image/jpeg:https://bignicks.com/wp-content/uploads/2025/10/Brunch-Sunday.jpg
ORGANIZER;CN="Big Nick's Juke Joint":MAILTO:bignicksonbaytree@gmail.com
END:VEVENT
BEGIN:VEVENT
DTSTART;TZID=America/New_York:20260109T193000
DTEND;TZID=America/New_York:20260109T233000
DTSTAMP:20260424T190655
CREATED:20260105T041737Z
LAST-MODIFIED:20260105T041737Z
UID:10000276-1767987000-1768001400@bignicks.com
SUMMARY:Phi Beta Sigma Founder’s Day
DESCRIPTION:Join the Theta Sigma Sigma chapter of Phi Beta Sigma as we celebrate our Founder’s Day celebration this Friday! Come dine and dance with us. #J9 #pbs1914 #phibetasigma #bignicks
URL:https://bignicks.com/event/phi-beta-sigma-founders-day/
LOCATION:Big Nick’s Juke Joint\, 1201 Baytree Rd\, Valdosta\, GA\, 31602\, United States
CATEGORIES:Big Nick Juke Joints Event,Live Music,Nick's at Nite
ATTACH;FMTTYPE=image/png:https://bignicks.com/wp-content/uploads/2026/01/Founders-day-event.png
ORGANIZER;CN="Big Nick's Juke Joint":MAILTO:bignicksonbaytree@gmail.com
END:VEVENT
BEGIN:VEVENT
DTSTART;TZID=America/New_York:20260109T200000
DTEND;TZID=America/New_York:20260109T220000
DTSTAMP:20260424T190655
CREATED:20260105T053840Z
LAST-MODIFIED:20260105T054432Z
UID:10000278-1767988800-1767996000@bignicks.com
SUMMARY:Ayonna Charese & Rehab After Party
DESCRIPTION:🎤 Ayonna Charese & Rehab \n🗓 Friday\, January 9 \n⏰ Showtime: 8PM \n📍 Big Nick’s Juke Joint — 1201 Baytree Rd\, Valdosta \nGreat music. Great food. Even better vibes. \n#NicksAtNite #FoundersDay #BigNicksJukeJoint #ValdostaEvents #LiveMusic229
URL:https://bignicks.com/event/ayonna-charese-rehab-after-party/
LOCATION:Big Nick’s Juke Joint\, 1201 Baytree Rd\, Valdosta\, GA\, 31602\, United States
CATEGORIES:Big Nick Juke Joints Event,Live Music,Nick's at Nite
ATTACH;FMTTYPE=image/jpeg:https://bignicks.com/wp-content/uploads/2025/12/Saturday-Night-Live-at-Big-Nicks-Ayonna-Charese-Rehab-1.jpg
ORGANIZER;CN="Big Nick's Juke Joint":MAILTO:bignicksonbaytree@gmail.com
END:VEVENT
BEGIN:VEVENT
DTSTART;TZID=America/New_York:20260110T200000
DTEND;TZID=America/New_York:20260110T230000
DTSTAMP:20260424T190655
CREATED:20260105T045814Z
LAST-MODIFIED:20260105T053115Z
UID:10000277-1768075200-1768086000@bignicks.com
SUMMARY:AYONNA CHARESE & REHAB LIVE
DESCRIPTION:🎤 Ayonna Charese & Rehab — LIVE \n🗓 Saturday\, January 10 \n⏰ 8PM \n📍 Big Nick’s Juke Joint — 1201 Baytree Rd\, Valdosta \nPull up early\, stay late 😎 \n#SaturdayLive #BigNicksJukeJoint #ValdostaNights #LiveMusic229 #GrownFolksVibes
URL:https://bignicks.com/event/ayonna-carese-rehab-live/
LOCATION:Big Nick’s Juke Joint\, 1201 Baytree Rd\, Valdosta\, GA\, 31602\, United States
CATEGORIES:Big Nick Juke Joints Event,Live Music,Nick's at Nite
ATTACH;FMTTYPE=image/png:https://bignicks.com/wp-content/uploads/2026/01/42175A1E-D5CD-48D3-9F9A-AEDCEDABA0F7.png
ORGANIZER;CN="Big Nick's Juke Joint":MAILTO:bignicksonbaytree@gmail.com
END:VEVENT
BEGIN:VEVENT
DTSTART;TZID=America/New_York:20260111T110000
DTEND;TZID=America/New_York:20260111T150000
DTSTAMP:20260424T190655
CREATED:20251122T051159Z
LAST-MODIFIED:20260225T144426Z
UID:10000012-1768129200-1768143600@bignicks.com
SUMMARY:Sunday Brunch at Big Nick’s
DESCRIPTION:It’s not just brunch. It’s BRUNCH! BRUNCH! BRUNCH!\nJoin us every Sunday for a mouthwatering Southern-style brunch featuring your favorites: fluffy pancakes\, cheesy omelets\, fresh fruit\, mimosas\, and more. Bring your appetite and your crew for a flavorful start to your Sunday! \n🍳 Walk-ins welcome • Family friendly • Vibes guaranteed\nEvery Sunday\, 11:00 AM – 3:00 PM
URL:https://bignicks.com/event/sunday-brunch-at-big-nicks/2026-01-11/
LOCATION:Big Nick’s Juke Joint\, 1201 Baytree Rd\, Valdosta\, GA\, 31602\, United States
CATEGORIES:Big Nick Juke Joints Event
ATTACH;FMTTYPE=image/jpeg:https://bignicks.com/wp-content/uploads/2025/10/Brunch-Sunday.jpg
ORGANIZER;CN="Big Nick's Juke Joint":MAILTO:bignicksonbaytree@gmail.com
END:VEVENT
BEGIN:VEVENT
DTSTART;TZID=America/New_York:20260118T110000
DTEND;TZID=America/New_York:20260118T150000
DTSTAMP:20260424T190655
CREATED:20251122T051159Z
LAST-MODIFIED:20260225T144426Z
UID:10000013-1768734000-1768748400@bignicks.com
SUMMARY:Sunday Brunch at Big Nick’s
DESCRIPTION:It’s not just brunch. It’s BRUNCH! BRUNCH! BRUNCH!\nJoin us every Sunday for a mouthwatering Southern-style brunch featuring your favorites: fluffy pancakes\, cheesy omelets\, fresh fruit\, mimosas\, and more. Bring your appetite and your crew for a flavorful start to your Sunday! \n🍳 Walk-ins welcome • Family friendly • Vibes guaranteed\nEvery Sunday\, 11:00 AM – 3:00 PM
URL:https://bignicks.com/event/sunday-brunch-at-big-nicks/2026-01-18/
LOCATION:Big Nick’s Juke Joint\, 1201 Baytree Rd\, Valdosta\, GA\, 31602\, United States
CATEGORIES:Big Nick Juke Joints Event
ATTACH;FMTTYPE=image/jpeg:https://bignicks.com/wp-content/uploads/2025/10/Brunch-Sunday.jpg
ORGANIZER;CN="Big Nick's Juke Joint":MAILTO:bignicksonbaytree@gmail.com
END:VEVENT
BEGIN:VEVENT
DTSTART;TZID=America/New_York:20260119T150000
DTEND;TZID=America/New_York:20260119T210000
DTSTAMP:20260424T190656
CREATED:20251210T173448Z
LAST-MODIFIED:20251210T173448Z
UID:10000270-1768834800-1768856400@bignicks.com
SUMMARY:MLK Steppathon Day + “Drop Dat Thang” Video Shoot
DESCRIPTION:CALLIN’ ALL MY BIG STEPPAS! 💥Grownzone ENT & Southern Soul University bring you the MLK Steppathon Day – an electric celebration of dance\, soul\, and culture. Hosted by 69 Boyz & DJ Killa Groove\, with special guests:🎧 DJ Trucker🎤 Mix Master T🎶 DJ Tremayne (107.9 The Beat) \n🔥 Featuring 10 Teams + Solo Steppers🎬 Includes the official “Drop Dat Thang (Worst Behavior)” video shoot📍 Big Nick’s – 1201 Baytree Rd\, Valdosta\, GA🕒 3PM–9PM | Sat\, Jan 19
URL:https://bignicks.com/event/mlk-steppathon-day-drop-dat-thang-video-shoot/
LOCATION:Big Nick’s Juke Joint\, 1201 Baytree Rd\, Valdosta\, GA\, 31602\, United States
CATEGORIES:Big Nick Juke Joints Event
ATTACH;FMTTYPE=image/jpeg:https://bignicks.com/wp-content/uploads/2025/12/MLK-Steppathon-Day-Drop-Dat-Thang-Video-Shoot.jpg
ORGANIZER;CN="Big Nick's Juke Joint":MAILTO:bignicksonbaytree@gmail.com
END:VEVENT
BEGIN:VEVENT
DTSTART;TZID=America/New_York:20260125T110000
DTEND;TZID=America/New_York:20260125T150000
DTSTAMP:20260424T190656
CREATED:20251122T051159Z
LAST-MODIFIED:20260225T144426Z
UID:10000014-1769338800-1769353200@bignicks.com
SUMMARY:Sunday Brunch at Big Nick’s
DESCRIPTION:It’s not just brunch. It’s BRUNCH! BRUNCH! BRUNCH!\nJoin us every Sunday for a mouthwatering Southern-style brunch featuring your favorites: fluffy pancakes\, cheesy omelets\, fresh fruit\, mimosas\, and more. Bring your appetite and your crew for a flavorful start to your Sunday! \n🍳 Walk-ins welcome • Family friendly • Vibes guaranteed\nEvery Sunday\, 11:00 AM – 3:00 PM
URL:https://bignicks.com/event/sunday-brunch-at-big-nicks/2026-01-25/
LOCATION:Big Nick’s Juke Joint\, 1201 Baytree Rd\, Valdosta\, GA\, 31602\, United States
CATEGORIES:Big Nick Juke Joints Event
ATTACH;FMTTYPE=image/jpeg:https://bignicks.com/wp-content/uploads/2025/10/Brunch-Sunday.jpg
ORGANIZER;CN="Big Nick's Juke Joint":MAILTO:bignicksonbaytree@gmail.com
END:VEVENT
END:VCALENDAR