BEGIN:VCALENDAR
VERSION:2.0
PRODID:-//Big Nicks Juke Joint - ECPv6.15.20//NONSGML v1.0//EN
CALSCALE:GREGORIAN
METHOD:PUBLISH
X-ORIGINAL-URL:https://bignicks.com
X-WR-CALDESC:Events for Big Nicks Juke Joint
REFRESH-INTERVAL;VALUE=DURATION:PT1H
X-Robots-Tag:noindex
X-PUBLISHED-TTL:PT1H
BEGIN:VTIMEZONE
TZID:America/New_York
BEGIN:DAYLIGHT
TZOFFSETFROM:-0500
TZOFFSETTO:-0400
TZNAME:EDT
DTSTART:20240310T070000
END:DAYLIGHT
BEGIN:STANDARD
TZOFFSETFROM:-0400
TZOFFSETTO:-0500
TZNAME:EST
DTSTART:20241103T060000
END:STANDARD
BEGIN:DAYLIGHT
TZOFFSETFROM:-0500
TZOFFSETTO:-0400
TZNAME:EDT
DTSTART:20250309T070000
END:DAYLIGHT
BEGIN:STANDARD
TZOFFSETFROM:-0400
TZOFFSETTO:-0500
TZNAME:EST
DTSTART:20251102T060000
END:STANDARD
BEGIN:DAYLIGHT
TZOFFSETFROM:-0500
TZOFFSETTO:-0400
TZNAME:EDT
DTSTART:20260308T070000
END:DAYLIGHT
BEGIN:STANDARD
TZOFFSETFROM:-0400
TZOFFSETTO:-0500
TZNAME:EST
DTSTART:20261101T060000
END:STANDARD
BEGIN:DAYLIGHT
TZOFFSETFROM:-0500
TZOFFSETTO:-0400
TZNAME:EDT
DTSTART:20270314T070000
END:DAYLIGHT
BEGIN:STANDARD
TZOFFSETFROM:-0400
TZOFFSETTO:-0500
TZNAME:EST
DTSTART:20271107T060000
END:STANDARD
END:VTIMEZONE
BEGIN:VEVENT
DTSTART;TZID=America/New_York:20251207T110000
DTEND;TZID=America/New_York:20251207T150000
DTSTAMP:20260424T205359
CREATED:20251122T051159Z
LAST-MODIFIED:20260225T144426Z
UID:10000007-1765105200-1765119600@bignicks.com
SUMMARY:Sunday Brunch at Big Nick’s
DESCRIPTION:It’s not just brunch. It’s BRUNCH! BRUNCH! BRUNCH!\nJoin us every Sunday for a mouthwatering Southern-style brunch featuring your favorites: fluffy pancakes\, cheesy omelets\, fresh fruit\, mimosas\, and more. Bring your appetite and your crew for a flavorful start to your Sunday! \n🍳 Walk-ins welcome • Family friendly • Vibes guaranteed\nEvery Sunday\, 11:00 AM – 3:00 PM
URL:https://bignicks.com/event/sunday-brunch-at-big-nicks/2025-12-07/
LOCATION:Big Nick’s Juke Joint\, 1201 Baytree Rd\, Valdosta\, GA\, 31602\, United States
CATEGORIES:Big Nick Juke Joints Event
ATTACH;FMTTYPE=image/jpeg:https://bignicks.com/wp-content/uploads/2025/10/Brunch-Sunday.jpg
ORGANIZER;CN="Big Nick's Juke Joint":MAILTO:bignicksonbaytree@gmail.com
END:VEVENT
BEGIN:VEVENT
DTSTART;TZID=America/New_York:20251211T183000
DTEND;TZID=America/New_York:20251211T210000
DTSTAMP:20260424T205359
CREATED:20251210T173318Z
LAST-MODIFIED:20251210T173318Z
UID:10000269-1765477800-1765486800@bignicks.com
SUMMARY:🎁 Toyz N Da Hood Drive
DESCRIPTION:SBS\, West Love & DJ Tremayne are bringing joy to the city with the Toyz N Da Hood Drive at Big Nick’s Juke Joint! 🎄🎶Come enjoy live performances from West Love and Tee Doe Brown — all for a great cause. \n💝 Entry is FREE with a new\, unwrapped toy📍 Big Nick’s Juke Joint🕠 Doors open at 6:30PMLet’s spread love\, music\, and holiday cheer to the kids in our community!
URL:https://bignicks.com/event/%f0%9f%8e%81-toyz-n-da-hood-drive/
LOCATION:Big Nick’s Juke Joint\, 1201 Baytree Rd\, Valdosta\, GA\, 31602\, United States
CATEGORIES:Big Nick Juke Joints Event
ATTACH;FMTTYPE=image/jpeg:https://bignicks.com/wp-content/uploads/2025/12/Toyz-N-Da-Hood-Drive.jpg
ORGANIZER;CN="Big Nick's Juke Joint":MAILTO:bignicksonbaytree@gmail.com
END:VEVENT
BEGIN:VEVENT
DTSTART;TZID=America/New_York:20251214T110000
DTEND;TZID=America/New_York:20251214T150000
DTSTAMP:20260424T205359
CREATED:20251122T051159Z
LAST-MODIFIED:20260225T144426Z
UID:10000008-1765710000-1765724400@bignicks.com
SUMMARY:Sunday Brunch at Big Nick’s
DESCRIPTION:It’s not just brunch. It’s BRUNCH! BRUNCH! BRUNCH!\nJoin us every Sunday for a mouthwatering Southern-style brunch featuring your favorites: fluffy pancakes\, cheesy omelets\, fresh fruit\, mimosas\, and more. Bring your appetite and your crew for a flavorful start to your Sunday! \n🍳 Walk-ins welcome • Family friendly • Vibes guaranteed\nEvery Sunday\, 11:00 AM – 3:00 PM
URL:https://bignicks.com/event/sunday-brunch-at-big-nicks/2025-12-14/
LOCATION:Big Nick’s Juke Joint\, 1201 Baytree Rd\, Valdosta\, GA\, 31602\, United States
CATEGORIES:Big Nick Juke Joints Event
ATTACH;FMTTYPE=image/jpeg:https://bignicks.com/wp-content/uploads/2025/10/Brunch-Sunday.jpg
ORGANIZER;CN="Big Nick's Juke Joint":MAILTO:bignicksonbaytree@gmail.com
END:VEVENT
BEGIN:VEVENT
DTSTART;TZID=America/New_York:20251219T210000
DTEND;TZID=America/New_York:20251220T000000
DTSTAMP:20260424T205359
CREATED:20251208T202000Z
LAST-MODIFIED:20251208T202436Z
UID:10000268-1766178000-1766188800@bignicks.com
SUMMARY:🎄 Soul-FULL Sweater Christmas Jam | Presented by Antrez Miller Music & Big Nick’s
DESCRIPTION:🕘 Doors Open: 9:15 PM | Show Starts: 9:30 PM📍 Big Nick’s | 1201 Baytree Rd\, Valdosta\, GA 31602 \nGet ready for a night where the food\, vibes\, and holiday spirit hit different! Join us for the Soul-FULL Sweater Christmas Jam\, a festive night of soulful music\, good food\, and great energy. \n🎤 Live Performances By: \n\nImmanuel “Manny” McCrae\nPrecious Austin\nAlana Butler\nLoretta Robinson Straughter\n\n🎁 Wear your most “Soul-FULL” sweater for a chance to win a free giveaway! \nThis is the Christmas vibe you didn’t know you needed. \n📞 More info: 229-516-0547
URL:https://bignicks.com/event/%f0%9f%8e%84-soul-full-sweater-christmas-jam-presented-by-antrez-miller-music-big-nicks/
LOCATION:Big Nick’s Juke Joint\, 1201 Baytree Rd\, Valdosta\, GA\, 31602\, United States
CATEGORIES:Big Nick Juke Joints Event,Live Music
ATTACH;FMTTYPE=image/jpeg:https://bignicks.com/wp-content/uploads/2025/12/Sweater-Christmas-Jam.jpg
ORGANIZER;CN="Big Nick's Juke Joint":MAILTO:bignicksonbaytree@gmail.com
END:VEVENT
BEGIN:VEVENT
DTSTART;TZID=America/New_York:20251221T110000
DTEND;TZID=America/New_York:20251221T150000
DTSTAMP:20260424T205359
CREATED:20251122T051159Z
LAST-MODIFIED:20260225T144426Z
UID:10000009-1766314800-1766329200@bignicks.com
SUMMARY:Sunday Brunch at Big Nick’s
DESCRIPTION:It’s not just brunch. It’s BRUNCH! BRUNCH! BRUNCH!\nJoin us every Sunday for a mouthwatering Southern-style brunch featuring your favorites: fluffy pancakes\, cheesy omelets\, fresh fruit\, mimosas\, and more. Bring your appetite and your crew for a flavorful start to your Sunday! \n🍳 Walk-ins welcome • Family friendly • Vibes guaranteed\nEvery Sunday\, 11:00 AM – 3:00 PM
URL:https://bignicks.com/event/sunday-brunch-at-big-nicks/2025-12-21/
LOCATION:Big Nick’s Juke Joint\, 1201 Baytree Rd\, Valdosta\, GA\, 31602\, United States
CATEGORIES:Big Nick Juke Joints Event
ATTACH;FMTTYPE=image/jpeg:https://bignicks.com/wp-content/uploads/2025/10/Brunch-Sunday.jpg
ORGANIZER;CN="Big Nick's Juke Joint":MAILTO:bignicksonbaytree@gmail.com
END:VEVENT
BEGIN:VEVENT
DTSTART;TZID=America/New_York:20251225T210000
DTEND;TZID=America/New_York:20251226T000000
DTSTAMP:20260424T205359
CREATED:20251223T214338Z
LAST-MODIFIED:20251223T214338Z
UID:10000272-1766696400-1766707200@bignicks.com
SUMMARY:This Christmas – A Grown Folks Turn Up!
DESCRIPTION:This Christmas Night\, leave the wrapping paper behind and step into the ultimate adult holiday experience at Big Nick’s Juke Joint & BBQ. We’re turning up the holiday heat with: \n🎧 DJ Tremayne on the ones and twos🎤 Hosted by AP & Erica “Da Fun Girl”🍹 Holiday cocktails crafted by mixologists Masha & Chuck💃 Guaranteed Litness + VIP Sections Available \n📅 Christmas Night | 🕗 Doors Open at 8PM📍 1201 Baytree Rd\, Valdosta\, GA🌐 BigNicks.com | 📞 229-444-5480 \nGrab your crew and make it a night to remember. The grown & sexy holiday celebration starts here!
URL:https://bignicks.com/event/this-christmas-a-grown-folks-turn-up/
LOCATION:Big Nick’s Juke Joint\, 1201 Baytree Rd\, Valdosta\, GA\, 31602\, United States
CATEGORIES:Big Nick Juke Joints Event
ATTACH;FMTTYPE=image/jpeg:https://bignicks.com/wp-content/uploads/2025/12/This-Christmas-–-A-Grown-Folks-Turn-Up.jpg
ORGANIZER;CN="Big Nick's Juke Joint":MAILTO:bignicksonbaytree@gmail.com
END:VEVENT
BEGIN:VEVENT
DTSTART;TZID=America/New_York:20251228T110000
DTEND;TZID=America/New_York:20251228T150000
DTSTAMP:20260424T205359
CREATED:20251122T051159Z
LAST-MODIFIED:20260225T144426Z
UID:10000010-1766919600-1766934000@bignicks.com
SUMMARY:Sunday Brunch at Big Nick’s
DESCRIPTION:It’s not just brunch. It’s BRUNCH! BRUNCH! BRUNCH!\nJoin us every Sunday for a mouthwatering Southern-style brunch featuring your favorites: fluffy pancakes\, cheesy omelets\, fresh fruit\, mimosas\, and more. Bring your appetite and your crew for a flavorful start to your Sunday! \n🍳 Walk-ins welcome • Family friendly • Vibes guaranteed\nEvery Sunday\, 11:00 AM – 3:00 PM
URL:https://bignicks.com/event/sunday-brunch-at-big-nicks/2025-12-28/
LOCATION:Big Nick’s Juke Joint\, 1201 Baytree Rd\, Valdosta\, GA\, 31602\, United States
CATEGORIES:Big Nick Juke Joints Event
ATTACH;FMTTYPE=image/jpeg:https://bignicks.com/wp-content/uploads/2025/10/Brunch-Sunday.jpg
ORGANIZER;CN="Big Nick's Juke Joint":MAILTO:bignicksonbaytree@gmail.com
END:VEVENT
BEGIN:VEVENT
DTSTART;TZID=America/New_York:20251231T210000
DTEND;TZID=America/New_York:20260101T000000
DTSTAMP:20260424T205359
CREATED:20251231T013356Z
LAST-MODIFIED:20251231T203631Z
UID:10000274-1767214800-1767225600@bignicks.com
SUMMARY:EPIC NIGHT: New Year’s Eve at Big Nick’s
DESCRIPTION:CLICK HERE FOR NEW YEAR’S EVE BASH TICKETS \nSay goodbye to 2025 in unforgettable style at Big Nick’s Juke Joint & BBQ! Join us for the most talked-about Grown Folks NYE Turn Up in Valdosta — complete with vibes\, bottles\, and beats that’ll take you into the new year right. \n🎧 Music by DJ Tremayne🎤 Hosted by AP\, Big Nick & Erica “Da Fun Girl”🍾 FREE Champagne Toast at Midnight🎉 Countdown\, confetti\, and pure energy all night \n✨ Dress to impress. Bring your crew. Make your reservation now!📍 1201 Baytree Rd\, Valdosta\, GA🌐 bignicks.com
URL:https://bignicks.com/event/epic-night-new-years-eve-at-big-nicks/
LOCATION:Big Nick’s Juke Joint\, 1201 Baytree Rd\, Valdosta\, GA\, 31602\, United States
CATEGORIES:Big Nick Juke Joints Event
ATTACH;FMTTYPE=image/jpeg:https://bignicks.com/wp-content/uploads/2025/12/Big-Nicks-NYE-2025-Party.jpg
ORGANIZER;CN="Big Nick's Juke Joint":MAILTO:bignicksonbaytree@gmail.com
END:VEVENT
END:VCALENDAR