BEGIN:VCALENDAR
VERSION:2.0
PRODID:-//Big Nicks Juke Joint - ECPv6.15.20//NONSGML v1.0//EN
CALSCALE:GREGORIAN
METHOD:PUBLISH
X-WR-CALNAME:Big Nicks Juke Joint
X-ORIGINAL-URL:https://bignicks.com
X-WR-CALDESC:Events for Big Nicks Juke Joint
REFRESH-INTERVAL;VALUE=DURATION:PT1H
X-Robots-Tag:noindex
X-PUBLISHED-TTL:PT1H
BEGIN:VTIMEZONE
TZID:America/New_York
BEGIN:DAYLIGHT
TZOFFSETFROM:-0500
TZOFFSETTO:-0400
TZNAME:EDT
DTSTART:20250309T070000
END:DAYLIGHT
BEGIN:STANDARD
TZOFFSETFROM:-0400
TZOFFSETTO:-0500
TZNAME:EST
DTSTART:20251102T060000
END:STANDARD
BEGIN:DAYLIGHT
TZOFFSETFROM:-0500
TZOFFSETTO:-0400
TZNAME:EDT
DTSTART:20260308T070000
END:DAYLIGHT
BEGIN:STANDARD
TZOFFSETFROM:-0400
TZOFFSETTO:-0500
TZNAME:EST
DTSTART:20261101T060000
END:STANDARD
BEGIN:DAYLIGHT
TZOFFSETFROM:-0500
TZOFFSETTO:-0400
TZNAME:EDT
DTSTART:20270314T070000
END:DAYLIGHT
BEGIN:STANDARD
TZOFFSETFROM:-0400
TZOFFSETTO:-0500
TZNAME:EST
DTSTART:20271107T060000
END:STANDARD
END:VTIMEZONE
BEGIN:VEVENT
DTSTART;TZID=America/New_York:20260424T210000
DTEND;TZID=America/New_York:20260425T010000
DTSTAMP:20260424T124426
CREATED:20260417T034243Z
LAST-MODIFIED:20260417T035008Z
UID:10000294-1777064400-1777078800@bignicks.com
SUMMARY:Grown Folks Business
DESCRIPTION:Too many people sitting at home missing out on life… this is your sign to get up and step out 🔥 \nAt some point\, you gotta stop watching and start living. The energy\, the music\, the people — it all hits different when you’re actually outside experiencing it. \nGrab your crew\, put that outfit on\, and come enjoy a night built for grown folks who know how to have a good time 🍾 \n✨ Good vibes only🎶 Real music\, real energy🔥 A night you don’t want to miss \n📍 Big Nick’s Juke Joint📅 Friday\, April 24⏰ Doors open at 9PM \nDon’t talk yourself out of a good time… SHOW UP.
URL:https://bignicks.com/event/1158/
LOCATION:Big Nick’s Juke Joint\, 1201 Baytree Rd\, Valdosta\, GA\, 31602\, United States
CATEGORIES:Big Nick Juke Joints Event,Live Music,Nick's at Nite
ATTACH;FMTTYPE=image/jpeg:https://bignicks.com/wp-content/uploads/2026/04/tellz.jpg
ORGANIZER;CN="Big Nick's Juke Joint":MAILTO:bignicksonbaytree@gmail.com
END:VEVENT
END:VCALENDAR