BEGIN:VCALENDAR
VERSION:2.0
PRODID:-//Big Nicks Juke Joint - ECPv6.15.20//NONSGML v1.0//EN
CALSCALE:GREGORIAN
METHOD:PUBLISH
X-ORIGINAL-URL:https://bignicks.com
X-WR-CALDESC:Events for Big Nicks Juke Joint
REFRESH-INTERVAL;VALUE=DURATION:PT1H
X-Robots-Tag:noindex
X-PUBLISHED-TTL:PT1H
BEGIN:VTIMEZONE
TZID:America/New_York
BEGIN:DAYLIGHT
TZOFFSETFROM:-0500
TZOFFSETTO:-0400
TZNAME:EDT
DTSTART:20240310T070000
END:DAYLIGHT
BEGIN:STANDARD
TZOFFSETFROM:-0400
TZOFFSETTO:-0500
TZNAME:EST
DTSTART:20241103T060000
END:STANDARD
BEGIN:DAYLIGHT
TZOFFSETFROM:-0500
TZOFFSETTO:-0400
TZNAME:EDT
DTSTART:20250309T070000
END:DAYLIGHT
BEGIN:STANDARD
TZOFFSETFROM:-0400
TZOFFSETTO:-0500
TZNAME:EST
DTSTART:20251102T060000
END:STANDARD
BEGIN:DAYLIGHT
TZOFFSETFROM:-0500
TZOFFSETTO:-0400
TZNAME:EDT
DTSTART:20260308T070000
END:DAYLIGHT
BEGIN:STANDARD
TZOFFSETFROM:-0400
TZOFFSETTO:-0500
TZNAME:EST
DTSTART:20261101T060000
END:STANDARD
END:VTIMEZONE
BEGIN:VEVENT
DTSTART;TZID=America/New_York:20251206T200000
DTEND;TZID=America/New_York:20251207T000000
DTSTAMP:20260424T221349
CREATED:20251122T050950Z
LAST-MODIFIED:20251206T203436Z
UID:10000004-1765051200-1765065600@bignicks.com
SUMMARY:🎄 Ugly Christmas Sweater Comedy Show
DESCRIPTION:It’s about to get hilariously UGLY! 🎁 Join us for a night of wild laughter\, festive vibes\, and over-the-top sweaters at Big Nick’s Ugly Christmas Sweater Comedy Show. Hosted by the one and only Lav Luv\, featuring Comedian Gabe Spain\, and headlined by OD Odell — this is the holiday comedy event you don’t want to miss! \n👕 Wear your loudest\, tackiest sweater for a chance to win $100 in the Ugliest Christmas Sweater contest! \nBring your friends\, your laughs\, and your worst fashion choices. We’re making spirits bright — one punchline at a time. \nDate: December 6Location: Big Nick’s Juke Joint – 1201 Baytree Rd\, Valdosta\, GA
URL:https://bignicks.com/event/%f0%9f%8e%84-ugly-christmas-sweater-comedy-show/
LOCATION:Big Nick’s Juke Joint\, 1201 Baytree Rd\, Valdosta\, GA\, 31602\, United States
CATEGORIES:Comedy Corner
ATTACH;FMTTYPE=image/jpeg:https://bignicks.com/wp-content/uploads/2025/11/att.LJLbwUZja5dFrxhvwZqhCH2xZVjgM1Zbo5KKjRm7GlE.jpg
ORGANIZER;CN="Big Nick's Juke Joint":MAILTO:bignicksonbaytree@gmail.com
END:VEVENT
END:VCALENDAR