BEGIN:VCALENDAR
VERSION:2.0
PRODID:-//Big Nicks Juke Joint - ECPv6.15.20//NONSGML v1.0//EN
CALSCALE:GREGORIAN
METHOD:PUBLISH
X-WR-CALNAME:Big Nicks Juke Joint
X-ORIGINAL-URL:https://bignicks.com
X-WR-CALDESC:Events for Big Nicks Juke Joint
REFRESH-INTERVAL;VALUE=DURATION:PT1H
X-Robots-Tag:noindex
X-PUBLISHED-TTL:PT1H
BEGIN:VTIMEZONE
TZID:America/New_York
BEGIN:DAYLIGHT
TZOFFSETFROM:-0500
TZOFFSETTO:-0400
TZNAME:EDT
DTSTART:20240310T070000
END:DAYLIGHT
BEGIN:STANDARD
TZOFFSETFROM:-0400
TZOFFSETTO:-0500
TZNAME:EST
DTSTART:20241103T060000
END:STANDARD
BEGIN:DAYLIGHT
TZOFFSETFROM:-0500
TZOFFSETTO:-0400
TZNAME:EDT
DTSTART:20250309T070000
END:DAYLIGHT
BEGIN:STANDARD
TZOFFSETFROM:-0400
TZOFFSETTO:-0500
TZNAME:EST
DTSTART:20251102T060000
END:STANDARD
BEGIN:DAYLIGHT
TZOFFSETFROM:-0500
TZOFFSETTO:-0400
TZNAME:EDT
DTSTART:20260308T070000
END:DAYLIGHT
BEGIN:STANDARD
TZOFFSETFROM:-0400
TZOFFSETTO:-0500
TZNAME:EST
DTSTART:20261101T060000
END:STANDARD
END:VTIMEZONE
BEGIN:VEVENT
DTSTART;TZID=America/New_York:20251129T200000
DTEND;TZID=America/New_York:20251129T233000
DTSTAMP:20260424T233648
CREATED:20251122T045313Z
LAST-MODIFIED:20251125T033339Z
UID:10000003-1764446400-1764459000@bignicks.com
SUMMARY:Saturday Night Live at Big Nick’s
DESCRIPTION:Get ready for a soul-filled Saturday night with Ayonna Charese & Rehab bringing the vibes\, vocals\, and live energy you don’t want to miss. Good food\, great music\, and an unforgettable night await you at Big Nick’s. \nCome early\, stay late — and let the music move you.RSVP: 229-469-6905 or bignicks.com \nDate: November 29Time: 8PMLocation: Big Nick’s Juke Joint – 1201 Baytree Rd\, Valdosta\, GA
URL:https://bignicks.com/event/saturday-night-live-at-big-nicks/
LOCATION:Big Nick’s Juke Joint\, 1201 Baytree Rd\, Valdosta\, GA\, 31602\, United States
CATEGORIES:Big Nick Juke Joints Event
ATTACH;FMTTYPE=image/png:https://bignicks.com/wp-content/uploads/2025/11/Copy-of-138-Weekend-Electro-Night-Club-Party-Flyer-Canva.png.png
ORGANIZER;CN="Big Nick's Juke Joint":MAILTO:bignicksonbaytree@gmail.com
END:VEVENT
END:VCALENDAR